BEGIN:VCALENDAR
VERSION:2.0
PRODID:-//wp-events-plugin.com//7.2.3.1//EN
TZID:America/Chicago
X-WR-TIMEZONE:America/Chicago
BEGIN:VEVENT
UID:5630@ansheemet.org
DTSTART;TZID=America/Chicago:20220228T190000
DTEND;TZID=America/Chicago:20220228T190000
DTSTAMP:20220214T161145Z
URL:https://www.ansheemet.org/events/brett-kaplan/
SUMMARY:Reflections on the Yiddush/African-American Convergences of Anthony
  Mordechai Tzvi Russell
DESCRIPTION:Join Prof. Brett Kaplan from the University of Illinois as she 
 explores the music of Anthony Mordechai Tzvi Russell\, an&nbsp\;African Am
 erican vocalist who uniquely weaves together the common ground between Yid
 dish music and Negro spirituals.\nRegister here\nQuestions? Contact Amy Ka
 rp at akarp@ansheemet.org / 773.868.5139.&nbsp\;
ATTACH;FMTTYPE=image/jpeg:https://www.ansheemet.org/wp-content/uploads/202
 2/01/BRETT-KAPLAN-WEB-IMAGE.jpg
CATEGORIES:Featured
END:VEVENT
BEGIN:VTIMEZONE
TZID:America/Chicago
X-LIC-LOCATION:America/Chicago
BEGIN:STANDARD
DTSTART:20211107T010000
TZOFFSETFROM:-0500
TZOFFSETTO:-0600
TZNAME:CST
END:STANDARD
END:VTIMEZONE
END:VCALENDAR