BEGIN:VCALENDAR
VERSION:2.0
PRODID:-//wp-events-plugin.com//7.2.3.1//EN
TZID:America/Chicago
X-WR-TIMEZONE:America/Chicago
BEGIN:VEVENT
UID:5956@ansheemet.org
DTSTART;TZID=America/Chicago:20260315T083000
DTEND;TZID=America/Chicago:20260315T140000
DTSTAMP:20260225T192325Z
URL:https://www.ansheemet.org/events/blood-drive/
SUMMARY:Anshe Emet Synagogue Blood Drive
DESCRIPTION:Benefiting the people of Chicago today and ensuring blood for I
 srael tomorrow.&nbsp\;\nFor now\, Israel has enough blood to meet existing
  needs. But that could change instantly in the case of continued war\, nat
 ural disaster\, or other unforeseen emergency.&nbsp\; When you donate bloo
 d\, you help ensure Vitalant -IL is ready to provide blood to Magen David 
 Adom\, Israel’s emergency services system\, whenever it might be needed.
 &nbsp\;\n\nHelp your local community while providing Israel with an insura
 nce policy too. If you are able\, donate blood.\nSchedule Your Appointment
  at AES\nYou can also visit VITALANT.ORG and use group code: ORDOK201. Or\
 , call Vitalant at 877-258-4825. &nbsp\;\nQuestions? Contact Emma Sternber
 g at esternberg@ansheemet.org.\n\n\n\nBe Someone’s Lukcy Charm and You C
 ould Win BIG! Donate March 1-April 5 and you’ll be automatically entered
  for a chance to win a $10\,000 gift card.* Your donation is a lucky charm
  for patients in need. Schedule today.&nbsp\;\n\n*Terms and condition appl
 y\; see vitalant.org/LuckyGiveaway.
ATTACH;FMTTYPE=image/jpeg:https://www.ansheemet.org/wp-content/uploads/202
 4/08/BLOOD-DRIVE-2026-WEB-IMAGE-scaled.jpg
CATEGORIES:Featured
END:VEVENT
BEGIN:VTIMEZONE
TZID:America/Chicago
X-LIC-LOCATION:America/Chicago
BEGIN:DAYLIGHT
DTSTART:20260308T030000
TZOFFSETFROM:-0600
TZOFFSETTO:-0500
TZNAME:CDT
END:DAYLIGHT
END:VTIMEZONE
END:VCALENDAR